BEGIN:VCALENDAR
VERSION:2.0
PRODID:-//ACBL District 21 - ECPv6.15.11//NONSGML v1.0//EN
CALSCALE:GREGORIAN
METHOD:PUBLISH
X-ORIGINAL-URL:https://d21acbl.org
X-WR-CALDESC:Events for ACBL District 21
REFRESH-INTERVAL;VALUE=DURATION:PT1H
X-Robots-Tag:noindex
X-PUBLISHED-TTL:PT1H
BEGIN:VTIMEZONE
TZID:America/Los_Angeles
BEGIN:DAYLIGHT
TZOFFSETFROM:-0800
TZOFFSETTO:-0700
TZNAME:PDT
DTSTART:20210314T100000
END:DAYLIGHT
BEGIN:STANDARD
TZOFFSETFROM:-0700
TZOFFSETTO:-0800
TZNAME:PST
DTSTART:20211107T090000
END:STANDARD
BEGIN:DAYLIGHT
TZOFFSETFROM:-0800
TZOFFSETTO:-0700
TZNAME:PDT
DTSTART:20220313T100000
END:DAYLIGHT
BEGIN:STANDARD
TZOFFSETFROM:-0700
TZOFFSETTO:-0800
TZNAME:PST
DTSTART:20221106T090000
END:STANDARD
BEGIN:DAYLIGHT
TZOFFSETFROM:-0800
TZOFFSETTO:-0700
TZNAME:PDT
DTSTART:20230312T100000
END:DAYLIGHT
BEGIN:STANDARD
TZOFFSETFROM:-0700
TZOFFSETTO:-0800
TZNAME:PST
DTSTART:20231105T090000
END:STANDARD
BEGIN:DAYLIGHT
TZOFFSETFROM:-0800
TZOFFSETTO:-0700
TZNAME:PDT
DTSTART:20240310T100000
END:DAYLIGHT
BEGIN:STANDARD
TZOFFSETFROM:-0700
TZOFFSETTO:-0800
TZNAME:PST
DTSTART:20241103T090000
END:STANDARD
BEGIN:DAYLIGHT
TZOFFSETFROM:-0800
TZOFFSETTO:-0700
TZNAME:PDT
DTSTART:20250309T100000
END:DAYLIGHT
BEGIN:STANDARD
TZOFFSETFROM:-0700
TZOFFSETTO:-0800
TZNAME:PST
DTSTART:20251102T090000
END:STANDARD
END:VTIMEZONE
BEGIN:VTIMEZONE
TZID:UTC
BEGIN:STANDARD
TZOFFSETFROM:+0000
TZOFFSETTO:+0000
TZNAME:UTC
DTSTART:20200101T000000
END:STANDARD
END:VTIMEZONE
BEGIN:VTIMEZONE
TZID:America/Denver
BEGIN:DAYLIGHT
TZOFFSETFROM:-0700
TZOFFSETTO:-0600
TZNAME:MDT
DTSTART:20200308T090000
END:DAYLIGHT
BEGIN:STANDARD
TZOFFSETFROM:-0600
TZOFFSETTO:-0700
TZNAME:MST
DTSTART:20201101T080000
END:STANDARD
BEGIN:DAYLIGHT
TZOFFSETFROM:-0700
TZOFFSETTO:-0600
TZNAME:MDT
DTSTART:20210314T090000
END:DAYLIGHT
BEGIN:STANDARD
TZOFFSETFROM:-0600
TZOFFSETTO:-0700
TZNAME:MST
DTSTART:20211107T080000
END:STANDARD
BEGIN:DAYLIGHT
TZOFFSETFROM:-0700
TZOFFSETTO:-0600
TZNAME:MDT
DTSTART:20220313T090000
END:DAYLIGHT
BEGIN:STANDARD
TZOFFSETFROM:-0600
TZOFFSETTO:-0700
TZNAME:MST
DTSTART:20221106T080000
END:STANDARD
END:VTIMEZONE
BEGIN:VEVENT
DTSTART;TZID=America/Los_Angeles:20241218T000000
DTEND;TZID=America/Los_Angeles:20241224T235959
DTSTAMP:20260424T014854
CREATED:20231206T022123Z
LAST-MODIFIED:20231206T022124Z
UID:5601-1734480000-1735084799@d21acbl.org
SUMMARY:STaC D21 D22 Participating Clubs
DESCRIPTION:
URL:https://d21acbl.org/event/stac-d21-d22-participating-clubs-3/
CATEGORIES:STaC
END:VEVENT
BEGIN:VEVENT
DTSTART;TZID=America/Los_Angeles:20240819T000000
DTEND;TZID=America/Los_Angeles:20240825T235959
DTSTAMP:20260424T014854
CREATED:20231206T015903Z
LAST-MODIFIED:20231206T015912Z
UID:5590-1724025600-1724630399@d21acbl.org
SUMMARY:STaC D21 D22 Participating Clubs
DESCRIPTION:
URL:https://d21acbl.org/event/stac-d21-d22-participating-clubs-2/
CATEGORIES:STaC
END:VEVENT
BEGIN:VEVENT
DTSTART;TZID=America/Los_Angeles:20240506T000000
DTEND;TZID=America/Los_Angeles:20240512T235959
DTSTAMP:20260424T014854
CREATED:20231206T013941Z
LAST-MODIFIED:20240329T022330Z
UID:5579-1714953600-1715558399@d21acbl.org
SUMMARY:Royal STaC
DESCRIPTION:2405505
URL:https://d21acbl.org/event/stac-d21-d22-participating-clubs/
CATEGORIES:STaC
END:VEVENT
BEGIN:VEVENT
DTSTART;TZID=America/Los_Angeles:20231204T000000
DTEND;TZID=America/Los_Angeles:20231210T235959
DTSTAMP:20260424T014854
CREATED:20230406T110430Z
LAST-MODIFIED:20230406T110431Z
UID:5288-1701648000-1702252799@d21acbl.org
SUMMARY:STaC D19 D21 D22 D23 Participating Clubs
DESCRIPTION:Sponsored by Districts 19\, 21\, 22 and 23. 
URL:https://d21acbl.org/event/stac-d19-d21-d22-d23-participating-clubs-2/
CATEGORIES:STaC
END:VEVENT
BEGIN:VEVENT
DTSTART;TZID=America/Los_Angeles:20230821T000000
DTEND;TZID=America/Los_Angeles:20230827T235959
DTSTAMP:20260424T014854
CREATED:20230406T101506Z
LAST-MODIFIED:20230616T113435Z
UID:5271-1692576000-1693180799@d21acbl.org
SUMMARY:STaC D21 D22 D23 Participating Clubs
DESCRIPTION:2308508\n\n\n\n\nSponsored by Districts 21\, 22 and 23. 
URL:https://d21acbl.org/event/stac-d21-d22-d23-participating-clubs/
CATEGORIES:STaC
END:VEVENT
BEGIN:VEVENT
DTSTART;TZID=America/Los_Angeles:20230501T000000
DTEND;TZID=America/Los_Angeles:20230507T235959
DTSTAMP:20260424T014854
CREATED:20230406T091426Z
LAST-MODIFIED:20230406T091504Z
UID:5256-1682899200-1683503999@d21acbl.org
SUMMARY:STaC D19 D21 D22 D23 Participating Clubs
DESCRIPTION:Sponsored by Districts 19\, 21\, 22 and 23. 
URL:https://d21acbl.org/event/stac-d19-d21-d22-d23-participating-clubs/
CATEGORIES:STaC
END:VEVENT
BEGIN:VEVENT
DTSTART;TZID=America/Los_Angeles:20221205T000000
DTEND;TZID=America/Los_Angeles:20221211T235959
DTSTAMP:20260424T014854
CREATED:20210611T223032Z
LAST-MODIFIED:20220930T161834Z
UID:1612-1670198400-1670803199@d21acbl.org
SUMMARY:Western Conference STaC
DESCRIPTION:Great Western Holiday STaC
URL:https://d21acbl.org/event/western-conference-stac-3/
CATEGORIES:STaC
END:VEVENT
BEGIN:VEVENT
DTSTART;TZID=America/Los_Angeles:20220822T000000
DTEND;TZID=America/Los_Angeles:20220828T235959
DTSTAMP:20260424T014854
CREATED:20220112T225316Z
LAST-MODIFIED:20220708T144952Z
UID:3866-1661126400-1661731199@d21acbl.org
SUMMARY:Summer STaC
DESCRIPTION:Sectional Tournament at Clubs in Districts 18\, 21\, 22 and 23. Earn Silver points at your favorite face-to-face club. \n\n\n2208502
URL:https://d21acbl.org/event/2208502/
CATEGORIES:STaC
END:VEVENT
BEGIN:VEVENT
DTSTART;TZID=America/Los_Angeles:20220502T000000
DTEND;TZID=America/Los_Angeles:20220508T000000
DTSTAMP:20260424T014854
CREATED:20210611T222948Z
LAST-MODIFIED:20220506T185339Z
UID:1597-1651449600-1651968000@d21acbl.org
SUMMARY:Western Conference Spring STaC
DESCRIPTION:Sponsored by Districts 18\, 19\, 21\, 22 and 23. Earn Silver points at your favorite face-to-face club. \n\n\n\n2205501
URL:https://d21acbl.org/event/2205501/
CATEGORIES:STaC
END:VEVENT
BEGIN:VEVENT
DTSTART;TZID=America/Los_Angeles:20220321T000000
DTEND;TZID=America/Los_Angeles:20220327T235959
DTSTAMP:20260424T014854
CREATED:20220216T042603Z
LAST-MODIFIED:20220323T162106Z
UID:3987-1647820800-1648425599@d21acbl.org
SUMMARY:Royal STaC
DESCRIPTION:Face to face at participating clubs in Districts 21\, 22 and 23. Special masterpoint awards of 25% Gold\, 25% Silver\, 25% Red and 25% Black. \n\n\n2203506
URL:https://d21acbl.org/event/2203506/
CATEGORIES:STaC
ATTACH;FMTTYPE=image/png:https://d21acbl.org/wp-content/uploads/2022/02/RoyalSTaC.png
END:VEVENT
BEGIN:VEVENT
DTSTART;TZID=UTC:20211207T000000
DTEND;TZID=UTC:20211212T235959
DTSTAMP:20260424T014854
CREATED:20210504T050003Z
LAST-MODIFIED:20211017T002236Z
UID:1276-1638835200-1639353599@d21acbl.org
SUMMARY:Holiday STaC
DESCRIPTION:Holiday STaC sponsored by Districts 17\, 21\, 22 and 23 \n\n2112501
URL:https://d21acbl.org/event/2112501/
CATEGORIES:STaC
END:VEVENT
BEGIN:VEVENT
DTSTART;TZID=America/Denver:20210816T000000
DTEND;TZID=America/Denver:20210822T235959
DTSTAMP:20260424T014854
CREATED:20210504T045933Z
LAST-MODIFIED:20210819T030538Z
UID:1263-1629072000-1629676799@d21acbl.org
SUMMARY:Western Conference STaC
DESCRIPTION:Western Conference Summer Fun Sectional Tournament at Clubs \n\n2108501
URL:https://d21acbl.org/event/2108501/
CATEGORIES:STaC
END:VEVENT
BEGIN:VEVENT
DTSTART;TZID=UTC:20210503T000000
DTEND;TZID=UTC:20210509T235959
DTSTAMP:20260424T014854
CREATED:20210504T045903Z
LAST-MODIFIED:20210611T002114Z
UID:1253-1620000000-1620604799@d21acbl.org
SUMMARY:CANCELLED-Western Conf STaC
DESCRIPTION:Western Conference Spring Fling STaC
URL:https://d21acbl.org/event/western-conf-stac/
CATEGORIES:STaC
END:VEVENT
END:VCALENDAR