BEGIN:VCALENDAR
VERSION:2.0
PRODID:-//ACBL District 21 - ECPv6.15.11//NONSGML v1.0//EN
CALSCALE:GREGORIAN
METHOD:PUBLISH
X-WR-CALNAME:ACBL District 21
X-ORIGINAL-URL:https://d21acbl.org
X-WR-CALDESC:Events for ACBL District 21
REFRESH-INTERVAL;VALUE=DURATION:PT1H
X-Robots-Tag:noindex
X-PUBLISHED-TTL:PT1H
BEGIN:VTIMEZONE
TZID:America/Los_Angeles
BEGIN:DAYLIGHT
TZOFFSETFROM:-0800
TZOFFSETTO:-0700
TZNAME:PDT
DTSTART:20210314T100000
END:DAYLIGHT
BEGIN:STANDARD
TZOFFSETFROM:-0700
TZOFFSETTO:-0800
TZNAME:PST
DTSTART:20211107T090000
END:STANDARD
BEGIN:DAYLIGHT
TZOFFSETFROM:-0800
TZOFFSETTO:-0700
TZNAME:PDT
DTSTART:20220313T100000
END:DAYLIGHT
BEGIN:STANDARD
TZOFFSETFROM:-0700
TZOFFSETTO:-0800
TZNAME:PST
DTSTART:20221106T090000
END:STANDARD
BEGIN:DAYLIGHT
TZOFFSETFROM:-0800
TZOFFSETTO:-0700
TZNAME:PDT
DTSTART:20230312T100000
END:DAYLIGHT
BEGIN:STANDARD
TZOFFSETFROM:-0700
TZOFFSETTO:-0800
TZNAME:PST
DTSTART:20231105T090000
END:STANDARD
BEGIN:DAYLIGHT
TZOFFSETFROM:-0800
TZOFFSETTO:-0700
TZNAME:PDT
DTSTART:20240310T100000
END:DAYLIGHT
BEGIN:STANDARD
TZOFFSETFROM:-0700
TZOFFSETTO:-0800
TZNAME:PST
DTSTART:20241103T090000
END:STANDARD
END:VTIMEZONE
BEGIN:VTIMEZONE
TZID:UTC
BEGIN:STANDARD
TZOFFSETFROM:+0000
TZOFFSETTO:+0000
TZNAME:UTC
DTSTART:20210101T000000
END:STANDARD
END:VTIMEZONE
BEGIN:VEVENT
DTSTART;TZID=America/Los_Angeles:20230810T000000
DTEND;TZID=America/Los_Angeles:20230813T235959
DTSTAMP:20260424T033400
CREATED:20220924T062542Z
LAST-MODIFIED:20220924T062543Z
UID:4769-1691625600-1691971199@d21acbl.org
SUMMARY:Reno 2023 August Sectional
DESCRIPTION:
URL:https://d21acbl.org/event/2308329/
LOCATION:Mathewson Bridge Center\, 125 W. Plumb\, Reno\, Nevada\, 89509
CATEGORIES:SECTIONAL
END:VEVENT
BEGIN:VEVENT
DTSTART;TZID=America/Los_Angeles:20230705T000000
DTEND;TZID=America/Los_Angeles:20230709T235959
DTSTAMP:20260424T033400
CREATED:20210611T223046Z
LAST-MODIFIED:20210612T143913Z
UID:1618-1688515200-1688947199@d21acbl.org
SUMMARY:Firecracker Sectional
DESCRIPTION:Firecracker Sectional
URL:https://d21acbl.org/event/firecracker-sectional-3/
LOCATION:Palo Alto Bridge Center\, 432A Stierlin Road\, Mountain View\, ca\, 94043
CATEGORIES:SECTIONAL
END:VEVENT
BEGIN:VEVENT
DTSTART;TZID=America/Los_Angeles:20230624T000000
DTEND;TZID=America/Los_Angeles:20230625T235959
DTSTAMP:20260424T033400
CREATED:20210611T223046Z
LAST-MODIFIED:20230406T101019Z
UID:1617-1687564800-1687737599@d21acbl.org
SUMMARY:East Bay Sectional
DESCRIPTION:East Bay Summer Sectional
URL:https://d21acbl.org/event/east-bay-sectional-5/
LOCATION:Mastick Senior Center\, 1155 Santa Clara Avenue\, Alameda\, CA\, 94501\, United States
CATEGORIES:SECTIONAL
END:VEVENT
BEGIN:VEVENT
DTSTART;TZID=America/Los_Angeles:20230520T000000
DTEND;TZID=America/Los_Angeles:20230520T235959
DTSTAMP:20260424T033400
CREATED:20230327T073510Z
LAST-MODIFIED:20230327T073511Z
UID:5241-1684540800-1684627199@d21acbl.org
SUMMARY:San Mateo County Spring NLM Sectional
DESCRIPTION:
URL:https://d21acbl.org/event/san-mateo-county-spring-nlm-sectional/
LOCATION:The Villa at San Mateo\, 4000 S. El Camino Real\, San Mateo\, California\, 94401
CATEGORIES:SECTIONAL
END:VEVENT
BEGIN:VEVENT
DTSTART;TZID=America/Los_Angeles:20230518T000000
DTEND;TZID=America/Los_Angeles:20230521T235900
DTSTAMP:20260424T033400
CREATED:20220308T035522Z
LAST-MODIFIED:20230327T071740Z
UID:4105-1684368000-1684713540@d21acbl.org
SUMMARY:Sacramento Spring Sectional
DESCRIPTION:2205355
URL:https://d21acbl.org/event/2205355/
LOCATION:Sacramento Bridge Center\, 2035 Hurley Way\, Suite 270\, Sacramento\, California\, 95825
CATEGORIES:SECTIONAL
END:VEVENT
BEGIN:VEVENT
DTSTART;TZID=America/Los_Angeles:20230513T093000
DTEND;TZID=America/Los_Angeles:20230513T140000
DTSTAMP:20260424T033400
CREATED:20230406T093031Z
LAST-MODIFIED:20230406T095451Z
UID:5259-1683970200-1683986400@d21acbl.org
SUMMARY:Reno 2023 LIMITED One-Day Sectional
DESCRIPTION:2305358
URL:https://d21acbl.org/event/reno-2022-limited-one-day-sectional/
LOCATION:Mathewson Bridge Center\, 125 W. Plumb\, Reno\, Nevada\, 89509
CATEGORIES:SECTIONAL
END:VEVENT
BEGIN:VEVENT
DTSTART;TZID=America/Los_Angeles:20230429T000000
DTEND;TZID=America/Los_Angeles:20230430T235959
DTSTAMP:20260424T033400
CREATED:20230322T235603Z
LAST-MODIFIED:20230322T235604Z
UID:5081-1682726400-1682899199@d21acbl.org
SUMMARY:Silicon Valley Spring Sectional
DESCRIPTION:
URL:https://d21acbl.org/event/2304364/
LOCATION:IFES Center\, 432A Stierlin Way\, Mountain View\, California\, 94043\, United States
CATEGORIES:SECTIONAL
END:VEVENT
BEGIN:VEVENT
DTSTART;TZID=America/Los_Angeles:20230422T000000
DTEND;TZID=America/Los_Angeles:20230423T235959
DTSTAMP:20260424T033400
CREATED:20221118T150658Z
LAST-MODIFIED:20230406T095838Z
UID:4999-1682121600-1682294399@d21acbl.org
SUMMARY:Marin Sectional
DESCRIPTION:2304357
URL:https://d21acbl.org/event/2304357/
LOCATION:Redwood High School\, Larkspur\, 395 Doherty Dr\, Larkspur\, CA\, 94939
CATEGORIES:SECTIONAL
END:VEVENT
BEGIN:VEVENT
DTSTART;TZID=America/Los_Angeles:20230420T000000
DTEND;TZID=America/Los_Angeles:20230423T235959
DTSTAMP:20260424T033400
CREATED:20221001T033310Z
LAST-MODIFIED:20221001T033311Z
UID:4852-1681948800-1682294399@d21acbl.org
SUMMARY:Reno Sectional
DESCRIPTION:
URL:https://d21acbl.org/event/2304352/
LOCATION:Mathewson Bridge Center\, 125 W. Plumb\, Reno\, Nevada\, 89509
CATEGORIES:SECTIONAL
END:VEVENT
BEGIN:VEVENT
DTSTART;TZID=America/Los_Angeles:20230331T000000
DTEND;TZID=America/Los_Angeles:20230402T235959
DTSTAMP:20260424T033400
CREATED:20221223T044108Z
LAST-MODIFIED:20230322T235303Z
UID:5079-1680220800-1680479999@d21acbl.org
SUMMARY:Palo Alto Unit Super Silver Sectional
DESCRIPTION:
URL:https://d21acbl.org/event/2304363/
LOCATION:Palo Alto Bridge Center\, 432A Stierlin Road\, Mountain View\, ca\, 94043
CATEGORIES:SECTIONAL
END:VEVENT
BEGIN:VEVENT
DTSTART;TZID=America/Los_Angeles:20230311T000000
DTEND;TZID=America/Los_Angeles:20230312T235959
DTSTAMP:20260424T033400
CREATED:20210611T223046Z
LAST-MODIFIED:20210612T143155Z
UID:1615-1678492800-1678665599@d21acbl.org
SUMMARY:Rising Stars Sectional
DESCRIPTION:Rising Stars Sectional
URL:https://d21acbl.org/event/rising-stars-sectional-2/
LOCATION:Mid-County Senior Center\, Capitola\, CA\, 829 Bay Ave\, Capitola\, California\, 95010
CATEGORIES:SECTIONAL
END:VEVENT
BEGIN:VEVENT
DTSTART;TZID=America/Los_Angeles:20230304T000000
DTEND;TZID=America/Los_Angeles:20230305T235959
DTSTAMP:20260424T033400
CREATED:20210611T223032Z
LAST-MODIFIED:20221215T055723Z
UID:1613-1677888000-1678060799@d21acbl.org
SUMMARY:Unit 509 Sectional
DESCRIPTION:2303312
URL:https://d21acbl.org/event/2303312/
LOCATION:Petaluma Community Center\, 320 N McDowell Blvd\, Petaluma\, California\, 94954
CATEGORIES:SECTIONAL
END:VEVENT
BEGIN:VEVENT
DTSTART;TZID=America/Los_Angeles:20230225T000000
DTEND;TZID=America/Los_Angeles:20230226T235959
DTSTAMP:20260424T033400
CREATED:20221118T145706Z
LAST-MODIFIED:20221118T145707Z
UID:4995-1677283200-1677455999@d21acbl.org
SUMMARY:San Mateo County Winter Sectional
DESCRIPTION:
URL:https://d21acbl.org/event/2302352/
LOCATION:Palo Alto Bridge Center\, 432A Stierlin Road\, Mountain View\, ca\, 94043
CATEGORIES:SECTIONAL
END:VEVENT
BEGIN:VEVENT
DTSTART;TZID=America/Los_Angeles:20230220T000000
DTEND;TZID=America/Los_Angeles:20230220T235959
DTSTAMP:20260424T033400
CREATED:20220720T230529Z
LAST-MODIFIED:20221223T034137Z
UID:4574-1676851200-1676937599@d21acbl.org
SUMMARY:Fresno Winter Sectional
DESCRIPTION:2302336
URL:https://d21acbl.org/event/2302336/
LOCATION:Fresno Bridge Center (Richard Meffley Clubhouse)\, 1616 W. Shaw Ave\, Suite A-1\, Fresno\, California\, 93711\, United States
CATEGORIES:SECTIONAL
END:VEVENT
BEGIN:VEVENT
DTSTART;TZID=America/Los_Angeles:20230204T000000
DTEND;TZID=America/Los_Angeles:20230205T235959
DTSTAMP:20260424T033401
CREATED:20210612T140350Z
LAST-MODIFIED:20220623T175134Z
UID:1717-1675468800-1675641599@d21acbl.org
SUMMARY:Livermore Valley Sectional
DESCRIPTION:
URL:https://d21acbl.org/event/livermore-valley-sectional-2/
LOCATION:Christensen Middle School\, Livermore\, 5757 Haggin Oaks Ave\, Livermore\, CA\, 94551\, United States
CATEGORIES:SECTIONAL
END:VEVENT
BEGIN:VEVENT
DTSTART;TZID=America/Los_Angeles:20230121T000000
DTEND;TZID=America/Los_Angeles:20230122T235959
DTSTAMP:20260424T033401
CREATED:20220114T213503Z
LAST-MODIFIED:20230327T074426Z
UID:3871-1674259200-1674431999@d21acbl.org
SUMMARY:Unit 506 Spring Sectional
DESCRIPTION:
URL:https://d21acbl.org/event/2301320/
LOCATION:St. Mary’s Cathedral\, 1111 Gough St.\, San Francisco\, CA\, 94109
CATEGORIES:SECTIONAL
ORGANIZER;CN="San Francisco Unit 506":MAILTO:unit506HeSays@gmail.com
END:VEVENT
BEGIN:VEVENT
DTSTART;TZID=America/Los_Angeles:20221119T000000
DTEND;TZID=America/Los_Angeles:20221120T235959
DTSTAMP:20260424T033401
CREATED:20210611T223006Z
LAST-MODIFIED:20210612T003200Z
UID:1610-1668816000-1668988799@d21acbl.org
SUMMARY:East Bay Sectional
DESCRIPTION:East Bay 2-Day Fall Sectional
URL:https://d21acbl.org/event/east-bay-sectional-4/
LOCATION:Oakland Masonic Center\, 3903 Broadway Ste 1\, Oakland\, California\, 94611
CATEGORIES:SECTIONAL
END:VEVENT
BEGIN:VEVENT
DTSTART;TZID=America/Los_Angeles:20221112T000000
DTEND;TZID=America/Los_Angeles:20221113T235959
DTSTAMP:20260424T033401
CREATED:20210611T223006Z
LAST-MODIFIED:20220518T204726Z
UID:1609-1668211200-1668383999@d21acbl.org
SUMMARY:Diablo Valley Sectional
DESCRIPTION:Diablo Valley Fall Sectional
URL:https://d21acbl.org/event/diablo-valley-sectional-4/
LOCATION:Dougherty Valley High School\, 10550 Albion Rd\, San Ramon\, CA\, 94582
CATEGORIES:SECTIONAL
END:VEVENT
BEGIN:VEVENT
DTSTART;TZID=America/Los_Angeles:20221111T000000
DTEND;TZID=America/Los_Angeles:20221113T235959
DTSTAMP:20260424T033401
CREATED:20220720T224504Z
LAST-MODIFIED:20221106T144714Z
UID:4569-1668124800-1668383999@d21acbl.org
SUMMARY:Fresno Fall Sectional
DESCRIPTION:2211354
URL:https://d21acbl.org/event/2211354/
LOCATION:Fresno Bridge Center\, 1616 W. Shaw Ave.\, Fresno\, CA\, 93711
CATEGORIES:SECTIONAL
END:VEVENT
BEGIN:VEVENT
DTSTART;TZID=America/Los_Angeles:20221109T000000
DTEND;TZID=America/Los_Angeles:20221109T235959
DTSTAMP:20260424T033401
CREATED:20220924T055202Z
LAST-MODIFIED:20220930T153944Z
UID:4762-1667952000-1668038399@d21acbl.org
SUMMARY:Reno 2022 LIMITED One-Day Sectional
DESCRIPTION:2211363
URL:https://d21acbl.org/event/2211363/
LOCATION:Mathewson Bridge Center\, 125 W. Plumb\, Reno\, Nevada\, 89509
CATEGORIES:SECTIONAL
END:VEVENT
BEGIN:VEVENT
DTSTART;TZID=America/Los_Angeles:20221104T000000
DTEND;TZID=America/Los_Angeles:20221106T235959
DTSTAMP:20260424T033401
CREATED:20211101T233818Z
LAST-MODIFIED:20220930T153651Z
UID:3429-1667520000-1667779199@d21acbl.org
SUMMARY:Palo Alto Bridge Club Sectional
DESCRIPTION:Palo Alto Bridge Club Sectional \n\n\n\n\n2211337.pdf”
URL:https://d21acbl.org/event/2211337/
LOCATION:Palo Alto Bridge Center\, 432A Stierlin Road\, Mountain View\, ca\, 94043
CATEGORIES:SECTIONAL
END:VEVENT
BEGIN:VEVENT
DTSTART;TZID=America/Los_Angeles:20221029T000000
DTEND;TZID=America/Los_Angeles:20221030T235959
DTSTAMP:20260424T033401
CREATED:20220827T203432Z
LAST-MODIFIED:20220930T153039Z
UID:4650-1667001600-1667174399@d21acbl.org
SUMMARY:San Jose Fall Sectional
DESCRIPTION:2210391
URL:https://d21acbl.org/event/2210391/
LOCATION:IFES Center\, 432A Stierlin Way\, Mountain View\, California\, 94043\, United States
CATEGORIES:SECTIONAL
END:VEVENT
BEGIN:VEVENT
DTSTART;TZID=America/Los_Angeles:20221029T000000
DTEND;TZID=America/Los_Angeles:20221029T235959
DTSTAMP:20260424T033401
CREATED:20220111T035846Z
LAST-MODIFIED:20220111T040033Z
UID:3861-1667001600-1667087999@d21acbl.org
SUMMARY:San Mateo NLM Sectional
DESCRIPTION:
URL:https://d21acbl.org/event/2210350/
LOCATION:The Villa at San Mateo\, 4000 S. El Camino Real\, San Mateo\, California\, 94401
CATEGORIES:SECTIONAL
END:VEVENT
BEGIN:VEVENT
DTSTART;TZID=America/Los_Angeles:20221022T000000
DTEND;TZID=America/Los_Angeles:20221023T235959
DTSTAMP:20260424T033401
CREATED:20210611T223006Z
LAST-MODIFIED:20221118T182324Z
UID:1608-1666396800-1666569599@d21acbl.org
SUMMARY:Santa Cruz Sectional
DESCRIPTION:Santa Cruz Surfs Up Sectional \n\n2210326
URL:https://d21acbl.org/event/2210326/
LOCATION:Mid-County Senior Center\, Capitola\, CA\, 829 Bay Ave\, Capitola\, California\, 95010
CATEGORIES:SECTIONAL
END:VEVENT
BEGIN:VEVENT
DTSTART;TZID=America/Los_Angeles:20221014T000000
DTEND;TZID=America/Los_Angeles:20221016T235959
DTSTAMP:20260424T033401
CREATED:20210611T223006Z
LAST-MODIFIED:20220930T151730Z
UID:1607-1665705600-1665964799@d21acbl.org
SUMMARY:PABC Open Sectional
DESCRIPTION:Palo Alto Bridge Club Open Sectional \n\n\n\n\n2210325
URL:https://d21acbl.org/event/2210325/
LOCATION:Palo Alto Bridge Center\, 432A Stierlin Road\, Mountain View\, ca\, 94043
CATEGORIES:SECTIONAL
END:VEVENT
BEGIN:VEVENT
DTSTART;TZID=America/Los_Angeles:20220924T000000
DTEND;TZID=America/Los_Angeles:20220925T235959
DTSTAMP:20260424T033401
CREATED:20220518T193249Z
LAST-MODIFIED:20220925T191736Z
UID:4316-1663977600-1664150399@d21acbl.org
SUMMARY:Diablo Valley Unit 499/Rossmoor Sectional
DESCRIPTION:2209366
URL:https://d21acbl.org/event/2209366/
LOCATION:Rossmoor Gateway Clubhouse\, 1001 Golden Rain\, Walnut Creek\, California\, 94595\, United States
CATEGORIES:SECTIONAL
END:VEVENT
BEGIN:VEVENT
DTSTART;TZID=UTC:20220917T000000
DTEND;TZID=UTC:20220918T235959
DTSTAMP:20260424T033401
CREATED:20210612T001846Z
LAST-MODIFIED:20220814T190351Z
UID:1683-1663372800-1663545599@d21acbl.org
SUMMARY:Gilroy Earthquake Sectional
DESCRIPTION:
URL:https://d21acbl.org/event/2209336/
LOCATION:Gilroy Senior Center\, 7371 Hanna Street\, Gilroy\, California\, 95020
CATEGORIES:SECTIONAL
END:VEVENT
BEGIN:VEVENT
DTSTART;TZID=America/Los_Angeles:20220917T000000
DTEND;TZID=America/Los_Angeles:20220918T235959
DTSTAMP:20260424T033401
CREATED:20210611T222950Z
LAST-MODIFIED:20220925T195553Z
UID:1605-1663372800-1663545599@d21acbl.org
SUMMARY:Unit 509 Santa Rosa/Petaluma Sectional
DESCRIPTION:2209314
URL:https://d21acbl.org/event/2209314/
LOCATION:Petaluma Community Center\, 320 N McDowell Blvd\, Petaluma\, California\, 94954
CATEGORIES:SECTIONAL
END:VEVENT
BEGIN:VEVENT
DTSTART;TZID=America/Los_Angeles:20220915T000000
DTEND;TZID=America/Los_Angeles:20220918T235959
DTSTAMP:20260424T033401
CREATED:20210611T222950Z
LAST-MODIFIED:20220322T151131Z
UID:1604-1663200000-1663545599@d21acbl.org
SUMMARY:Carson Tahoe Sectional
DESCRIPTION:2022 Carson Tahoe Sectional
URL:https://d21acbl.org/event/2209327/
LOCATION:Plaza Convention Center\, Carson City NV\, 801 S Carson St\, Carson City\, Nevada\, 89701
CATEGORIES:SECTIONAL
END:VEVENT
BEGIN:VEVENT
DTSTART;TZID=America/Los_Angeles:20220909T000000
DTEND;TZID=America/Los_Angeles:20220911T235959
DTSTAMP:20260424T033401
CREATED:20220705T204436Z
LAST-MODIFIED:20220925T195246Z
UID:4480-1662681600-1662940799@d21acbl.org
SUMMARY:Sacramento September Sectional
DESCRIPTION:
URL:https://d21acbl.org/event/2209377/
LOCATION:Sacramento Bridge Center\, 2035 Hurley Way\, Suite 270\, Sacramento\, California\, 95825
CATEGORIES:SECTIONAL
END:VEVENT
END:VCALENDAR