BEGIN:VCALENDAR
VERSION:2.0
PRODID:-//ACBL District 21 - ECPv6.15.11//NONSGML v1.0//EN
CALSCALE:GREGORIAN
METHOD:PUBLISH
X-ORIGINAL-URL:https://d21acbl.org
X-WR-CALDESC:Events for ACBL District 21
REFRESH-INTERVAL;VALUE=DURATION:PT1H
X-Robots-Tag:noindex
X-PUBLISHED-TTL:PT1H
BEGIN:VTIMEZONE
TZID:UTC
BEGIN:STANDARD
TZOFFSETFROM:+0000
TZOFFSETTO:+0000
TZNAME:UTC
DTSTART:20230101T000000
END:STANDARD
END:VTIMEZONE
BEGIN:VTIMEZONE
TZID:America/Los_Angeles
BEGIN:DAYLIGHT
TZOFFSETFROM:-0800
TZOFFSETTO:-0700
TZNAME:PDT
DTSTART:20200308T100000
END:DAYLIGHT
BEGIN:STANDARD
TZOFFSETFROM:-0700
TZOFFSETTO:-0800
TZNAME:PST
DTSTART:20201101T090000
END:STANDARD
BEGIN:DAYLIGHT
TZOFFSETFROM:-0800
TZOFFSETTO:-0700
TZNAME:PDT
DTSTART:20210314T100000
END:DAYLIGHT
BEGIN:STANDARD
TZOFFSETFROM:-0700
TZOFFSETTO:-0800
TZNAME:PST
DTSTART:20211107T090000
END:STANDARD
BEGIN:DAYLIGHT
TZOFFSETFROM:-0800
TZOFFSETTO:-0700
TZNAME:PDT
DTSTART:20220313T100000
END:DAYLIGHT
BEGIN:STANDARD
TZOFFSETFROM:-0700
TZOFFSETTO:-0800
TZNAME:PST
DTSTART:20221106T090000
END:STANDARD
BEGIN:DAYLIGHT
TZOFFSETFROM:-0800
TZOFFSETTO:-0700
TZNAME:PDT
DTSTART:20230312T100000
END:DAYLIGHT
BEGIN:STANDARD
TZOFFSETFROM:-0700
TZOFFSETTO:-0800
TZNAME:PST
DTSTART:20231105T090000
END:STANDARD
BEGIN:DAYLIGHT
TZOFFSETFROM:-0800
TZOFFSETTO:-0700
TZNAME:PDT
DTSTART:20240310T100000
END:DAYLIGHT
BEGIN:STANDARD
TZOFFSETFROM:-0700
TZOFFSETTO:-0800
TZNAME:PST
DTSTART:20241103T090000
END:STANDARD
END:VTIMEZONE
BEGIN:VEVENT
DTSTART;TZID=UTC:20240106T000000
DTEND;TZID=UTC:20240107T235959
DTSTAMP:20260424T015003
CREATED:20231204T050044Z
LAST-MODIFIED:20231204T054805Z
UID:5546-1704499200-1704671999@d21acbl.org
SUMMARY:Monterey NAP Final for 2023-2024 GNT/NAP
DESCRIPTION:2401721
URL:https://d21acbl.org/event/monterey-nap-final-for-2023-2024-gnt-nap/
LOCATION:Hyatt Regency Monterey\, 1 Old Golf Course Road\, Monterey\, CA\, 93940\, United States
CATEGORIES:NAP
END:VEVENT
BEGIN:VEVENT
DTSTART;TZID=America/Los_Angeles:20230114T000000
DTEND;TZID=America/Los_Angeles:20230115T235959
DTSTAMP:20260424T015003
CREATED:20221001T032621Z
LAST-MODIFIED:20221003T173327Z
UID:4847-1673654400-1673827199@d21acbl.org
SUMMARY:NAP Flight B&C Final - BBO
DESCRIPTION:NAP Flight B & C Final – BBO \n\n\nnap_2022-23
URL:https://d21acbl.org/event/2301746/
LOCATION:BBO\, United States
CATEGORIES:GNT,NAP
END:VEVENT
BEGIN:VEVENT
DTSTART;TZID=America/Los_Angeles:20230108T000000
DTEND;TZID=America/Los_Angeles:20230108T235959
DTSTAMP:20260424T015003
CREATED:20221001T032205Z
LAST-MODIFIED:20221003T173555Z
UID:4843-1673136000-1673222399@d21acbl.org
SUMMARY:District 21 NAP Flight A Final
DESCRIPTION:D21 NAP Flight A Final \n\n\nnap_2022-23
URL:https://d21acbl.org/event/2301721/
LOCATION:Hyatt Regency Monterey\, 1 Old Golf Course Road\, Monterey\, CA\, 93940\, United States
CATEGORIES:GNT,NAP
END:VEVENT
BEGIN:VEVENT
DTSTART;TZID=America/Los_Angeles:20211121T000000
DTEND;TZID=America/Los_Angeles:20211121T235959
DTSTAMP:20260424T015003
CREATED:20211101T231604Z
LAST-MODIFIED:20211123T034306Z
UID:3424-1637452800-1637539199@d21acbl.org
SUMMARY:NAP Flight C
DESCRIPTION:
URL:https://d21acbl.org/event/nap-2022-c/
LOCATION:BBO\, United States
CATEGORIES:NAP
ATTACH;FMTTYPE=image/jpeg:https://d21acbl.org/wp-content/uploads/2021/11/NAP_featured_image-1.jpg
END:VEVENT
BEGIN:VEVENT
DTSTART;TZID=America/Los_Angeles:20211120T000000
DTEND;TZID=America/Los_Angeles:20211120T235959
DTSTAMP:20260424T015003
CREATED:20211101T231202Z
LAST-MODIFIED:20211121T190821Z
UID:3421-1637366400-1637452799@d21acbl.org
SUMMARY:NAP Flight B
DESCRIPTION:North American Pairs Flight B District Finals
URL:https://d21acbl.org/event/nap-2022-b/
LOCATION:BBO\, United States
CATEGORIES:NAP
ATTACH;FMTTYPE=image/jpeg:https://d21acbl.org/wp-content/uploads/2021/11/NAP_featured_image-1.jpg
END:VEVENT
BEGIN:VEVENT
DTSTART;TZID=America/Los_Angeles:20211113T000000
DTEND;TZID=America/Los_Angeles:20211114T235959
DTSTAMP:20260424T015003
CREATED:20211101T224111Z
LAST-MODIFIED:20211123T034152Z
UID:3401-1636761600-1636934399@d21acbl.org
SUMMARY:NAP Flight A
DESCRIPTION:North American Pairs Flight A District Finals
URL:https://d21acbl.org/event/nap-2022-a/
LOCATION:BBO\, United States
CATEGORIES:NAP
ATTACH;FMTTYPE=image/jpeg:https://d21acbl.org/wp-content/uploads/2021/11/NAP_featured_image-1.jpg
END:VEVENT
END:VCALENDAR