BEGIN:VCALENDAR
VERSION:2.0
PRODID:-//ACBL District 21 - ECPv6.15.11//NONSGML v1.0//EN
CALSCALE:GREGORIAN
METHOD:PUBLISH
X-WR-CALNAME:ACBL District 21
X-ORIGINAL-URL:https://d21acbl.org
X-WR-CALDESC:Events for ACBL District 21
REFRESH-INTERVAL;VALUE=DURATION:PT1H
X-Robots-Tag:noindex
X-PUBLISHED-TTL:PT1H
BEGIN:VTIMEZONE
TZID:UTC
BEGIN:STANDARD
TZOFFSETFROM:+0000
TZOFFSETTO:+0000
TZNAME:UTC
DTSTART:20200101T000000
END:STANDARD
END:VTIMEZONE
BEGIN:VEVENT
DTSTART;TZID=UTC:20210311T000000
DTEND;TZID=UTC:20210321T235959
DTSTAMP:20260424T015804
CREATED:20210504T045847Z
LAST-MODIFIED:20210610T231227Z
UID:1247-1615420800-1616371199@d21acbl.org
SUMMARY:2021 NAOBC
DESCRIPTION:2021 North American Online Bridge Championships (NAOBC)
URL:https://d21acbl.org/event/2021-naobc/
LOCATION:Contact
CATEGORIES:NAOBC
END:VEVENT
END:VCALENDAR